BEGIN:VCALENDAR
VERSION:2.0
PRODID:-//National Cherry Blossom Festival - ECPv6.15.20//NONSGML v1.0//EN
CALSCALE:GREGORIAN
METHOD:PUBLISH
X-WR-CALNAME:National Cherry Blossom Festival
X-ORIGINAL-URL:https://nationalcherryblossomfestival.org/es/
X-WR-CALDESC:Eventos para National Cherry Blossom Festival
REFRESH-INTERVAL;VALUE=DURATION:PT1H
X-Robots-Tag:noindex
X-PUBLISHED-TTL:PT1H
BEGIN:VTIMEZONE
TZID:America/New_York
BEGIN:DAYLIGHT
TZOFFSETFROM:-0500
TZOFFSETTO:-0400
TZNAME:EDT
DTSTART:20250309T070000
END:DAYLIGHT
BEGIN:STANDARD
TZOFFSETFROM:-0400
TZOFFSETTO:-0500
TZNAME:EST
DTSTART:20251102T060000
END:STANDARD
BEGIN:DAYLIGHT
TZOFFSETFROM:-0500
TZOFFSETTO:-0400
TZNAME:EDT
DTSTART:20260308T070000
END:DAYLIGHT
BEGIN:STANDARD
TZOFFSETFROM:-0400
TZOFFSETTO:-0500
TZNAME:EST
DTSTART:20261101T060000
END:STANDARD
BEGIN:DAYLIGHT
TZOFFSETFROM:-0500
TZOFFSETTO:-0400
TZNAME:EDT
DTSTART:20270314T070000
END:DAYLIGHT
BEGIN:STANDARD
TZOFFSETFROM:-0400
TZOFFSETTO:-0500
TZNAME:EST
DTSTART:20271107T060000
END:STANDARD
END:VTIMEZONE
BEGIN:VEVENT
DTSTART;TZID=America/New_York:20260329T100000
DTEND;TZID=America/New_York:20260329T130000
DTSTAMP:20260420T082944
CREATED:20260312T203324Z
LAST-MODIFIED:20260312T214603Z
UID:21925-1774778400-1774789200@nationalcherryblossomfestival.org
SUMMARY:Bloom Break en el Museo Nacional del Edificio con Konbini de Daikaya
DESCRIPTION:Celebra la primavera y los cerezos en flor de la ciudad en el Museo Nacional de la Construcción con creatividad inspirada en Japón. El programa incluye actividades prácticas centradas en la exploración de idiomas\, la elaboración del papel y la ilustración\, junto con una breve actuación de koto y shamisen que muestra música tradicional japonesa. Se invita a los invitados a crear\, aprender y conectar a través de experiencias artísticas que celebran la curiosidad\, la artesanía y la alegría de la primavera\, y a disfrutar de delicias estacionales y propuestas con temática primaveral en Konbini by Daikaya\, la cafetería del museo.  								\n				\n					\n				\n		\n					\n				\n				\n																														\n				\n					\n				\n		\n					\n		\n		\n		\n		\n		\n		\n		\n				\n				\n							\n			\n						\n		\n						\n				\n				\n				\n		\n				\n				\n					Acceso a la movilidad				\n				\n				\n				\n									Este evento es accesible para sillas de ruedas. 								\n				\n				\n				\n				\n		\n		\n		\n		\n				\n				\n							\n			\n						\n		\n						\n				\n				\n				\n		\n				\n				\n					Animales de servicio				\n				\n				\n				\n									Siempre se permiten animales de servicio. 								\n				\n				\n				\n				\n				\n				\n				\n					\n				\n		\n					\n		\n				\n				\n					Alojamientos adicionales				\n				\n				\n				\n									Este evento es producido por el Museo de Arte en el Edificio Nacional. Para otras necesidades de accesibilidad\, por favor contacta con Amanda Hodges\, ahodges@nbm.org\, 202.272.2448 ext: 3551. Contacta con info@nbm.org para más información sobre el evento.
URL:https://nationalcherryblossomfestival.org/es/event/bloom-break-en-el-museo-nacional-del-edificio-con-konbini-de-daikaya/
LOCATION:Museo Nacional de Edificios\, 401 F Street NW\, 20001\, United States
ATTACH;FMTTYPE=image/jpeg:https://nationalcherryblossomfestival.org/wp-content/uploads/2026/03/Header_Imeage-1.jpg
GEO:38.8976815;-77.0181029
X-APPLE-STRUCTURED-LOCATION;VALUE=URI;X-ADDRESS=Museo Nacional de Edificios 401 F Street NW 20001 United States;X-APPLE-RADIUS=500;X-TITLE=401 F Street NW:geo:-77.0181029,38.8976815
END:VEVENT
END:VCALENDAR