BEGIN:VCALENDAR
VERSION:2.0
PRODID:-//National Cherry Blossom Festival - ECPv6.15.20//NONSGML v1.0//EN
CALSCALE:GREGORIAN
METHOD:PUBLISH
X-WR-CALNAME:National Cherry Blossom Festival
X-ORIGINAL-URL:https://nationalcherryblossomfestival.org/es/
X-WR-CALDESC:Eventos para National Cherry Blossom Festival
REFRESH-INTERVAL;VALUE=DURATION:PT1H
X-Robots-Tag:noindex
X-PUBLISHED-TTL:PT1H
BEGIN:VTIMEZONE
TZID:America/New_York
BEGIN:DAYLIGHT
TZOFFSETFROM:-0500
TZOFFSETTO:-0400
TZNAME:EDT
DTSTART:20250309T070000
END:DAYLIGHT
BEGIN:STANDARD
TZOFFSETFROM:-0400
TZOFFSETTO:-0500
TZNAME:EST
DTSTART:20251102T060000
END:STANDARD
BEGIN:DAYLIGHT
TZOFFSETFROM:-0500
TZOFFSETTO:-0400
TZNAME:EDT
DTSTART:20260308T070000
END:DAYLIGHT
BEGIN:STANDARD
TZOFFSETFROM:-0400
TZOFFSETTO:-0500
TZNAME:EST
DTSTART:20261101T060000
END:STANDARD
BEGIN:DAYLIGHT
TZOFFSETFROM:-0500
TZOFFSETTO:-0400
TZNAME:EDT
DTSTART:20270314T070000
END:DAYLIGHT
BEGIN:STANDARD
TZOFFSETFROM:-0400
TZOFFSETTO:-0500
TZNAME:EST
DTSTART:20271107T060000
END:STANDARD
END:VTIMEZONE
BEGIN:VEVENT
DTSTART;TZID=America/New_York:20260320T000000
DTEND;TZID=America/New_York:20260420T000000
DTSTAMP:20260420T114914
CREATED:20260312T154917Z
LAST-MODIFIED:20260312T202207Z
UID:21469-1773964800-1776643200@nationalcherryblossomfestival.org
SUMMARY:Celebración de los Cerezos en Flor del Museo Nacional de Arte Asiático
DESCRIPTION:Celebra la primavera en flor con atracciones gratuitas para todas las edades.   Haz clic aquí para más información.   								\n				\n					\n				\n		\n					\n				\n				\n																														\n				\n					\n				\n		\n					\n		\n		\n		\n		\n		\n		\n		\n				\n				\n							\n			\n						\n		\n						\n				\n				\n				\n		\n				\n				\n					Acceso a la movilidad				\n				\n				\n				\n									Este evento es accesible para sillas de ruedas. 								\n				\n				\n				\n				\n		\n		\n		\n		\n				\n				\n							\n			\n						\n		\n						\n				\n				\n				\n		\n				\n				\n					Acceso a la comunicación				\n				\n				\n				\n									Se proporcionará interpretación de ASL. 								\n				\n				\n				\n				\n		\n		\n		\n		\n				\n				\n							\n			\n						\n		\n						\n				\n				\n				\n		\n				\n				\n					Consideraciones sensoriales				\n				\n				\n				\n									Este evento suele atraer a grandes multitudes y puede ser ruidoso. Hay una zona tranquila disponible.  								\n				\n				\n				\n				\n				\n				\n				\n					\n				\n		\n					\n		\n				\n				\n					Alojamientos adicionales				\n				\n				\n				\n									Este evento es producido por el Museo Nacional de Arte Asiático. Para otras necesidades de accesibilidad\, por favor llame.  202.633.1000. Para más información sobre el evento\, por favor contacta con Mary Kong-DeVito en kong-devitom@si.edu
URL:https://nationalcherryblossomfestival.org/es/event/celebracion-de-los-cerezos-en-flor-del-museo-nacional-de-arte-asiatico/
LOCATION:Museo Nacional de Arte Asiático\, Avenida Independence\, 1050 SW\, 20013\, United States
CATEGORIES:Exposición / Instalación
ATTACH;FMTTYPE=image/jpeg:https://nationalcherryblossomfestival.org/wp-content/uploads/2026/03/5890_04.jpg
GEO:38.8875751;-77.0296193
X-APPLE-STRUCTURED-LOCATION;VALUE=URI;X-ADDRESS=Museo Nacional de Arte Asiático Avenida Independence 1050 SW 20013 United States;X-APPLE-RADIUS=500;X-TITLE=Avenida Independence\, 1050 SW:geo:-77.0296193,38.8875751
END:VEVENT
END:VCALENDAR