BEGIN:VCALENDAR
VERSION:2.0
PRODID:-//National Cherry Blossom Festival - ECPv6.15.20//NONSGML v1.0//EN
CALSCALE:GREGORIAN
METHOD:PUBLISH
X-WR-CALNAME:National Cherry Blossom Festival
X-ORIGINAL-URL:https://nationalcherryblossomfestival.org/es/
X-WR-CALDESC:Eventos para National Cherry Blossom Festival
REFRESH-INTERVAL;VALUE=DURATION:PT1H
X-Robots-Tag:noindex
X-PUBLISHED-TTL:PT1H
BEGIN:VTIMEZONE
TZID:America/New_York
BEGIN:DAYLIGHT
TZOFFSETFROM:-0500
TZOFFSETTO:-0400
TZNAME:EDT
DTSTART:20250309T070000
END:DAYLIGHT
BEGIN:STANDARD
TZOFFSETFROM:-0400
TZOFFSETTO:-0500
TZNAME:EST
DTSTART:20251102T060000
END:STANDARD
BEGIN:DAYLIGHT
TZOFFSETFROM:-0500
TZOFFSETTO:-0400
TZNAME:EDT
DTSTART:20260308T070000
END:DAYLIGHT
BEGIN:STANDARD
TZOFFSETFROM:-0400
TZOFFSETTO:-0500
TZNAME:EST
DTSTART:20261101T060000
END:STANDARD
BEGIN:DAYLIGHT
TZOFFSETFROM:-0500
TZOFFSETTO:-0400
TZNAME:EDT
DTSTART:20270314T070000
END:DAYLIGHT
BEGIN:STANDARD
TZOFFSETFROM:-0400
TZOFFSETTO:-0500
TZNAME:EST
DTSTART:20271107T060000
END:STANDARD
END:VTIMEZONE
BEGIN:VEVENT
DTSTART;TZID=America/New_York:20260412T073000
DTEND;TZID=America/New_York:20260412T103000
DTSTAMP:20260422T065851
CREATED:20260309T075902Z
LAST-MODIFIED:20260312T184307Z
UID:21552-1775979000-1775989800@nationalcherryblossomfestival.org
SUMMARY:Cooperativa de Crédito Cherry Blossom 10 millas
DESCRIPTION:El evento está cerrado a inscripciones; Gratis para los espectadores.   El consato de primavera del corredor Los mejores corredores persiguen 100.000 dólares\, mientras que otros 20.000 persiguen sus mejores marcas personales en la Consagración de la Primavera del Corredor.   Ubicación: Terrenos del Monumento a Washington\, 2 15th St. NW\, Washington\, D.C. 20007   Fechas y hora: La carrera 5K es el sábado 11 de abril en Arlington\, VA. La carrera de 10K empieza a las 7:30 de la mañana y termina a las 10:30.     								\n				\n					\n				\n		\n					\n				\n				\n																														\n				\n					\n				\n		\n					\n		\n		\n		\n		\n		\n		\n		\n				\n				\n							\n			\n						\n		\n						\n				\n				\n				\n		\n				\n				\n					Acceso a la movilidad				\n				\n				\n				\n									Este evento es accesible para sillas de ruedas. 								\n				\n				\n				\n				\n		\n		\n		\n		\n				\n				\n							\n			\n						\n		\n						\n				\n				\n				\n		\n				\n				\n					Animales de servicio				\n				\n				\n				\n									Siempre se permiten animales de servicio. 								\n				\n				\n				\n				\n				\n				\n				\n					\n				\n		\n					\n				\n				\n					Alojamientos adicionales				\n				\n				\n				\n									Este evento es producido por Cherry Blossom\, Inc y si tiene información adicional\, por favor contacte con Phil Stewart en pstewart@cherryblossom.org Para cualquier otra necesidad de accesibilidad\, por favor contacta con Shannon Ross en info@cherryblossom.org
URL:https://nationalcherryblossomfestival.org/es/event/cooperativa-de-credito-cherry-blossom-10-millas/
LOCATION:Terrenos del Monumento a Washington\, 130 Calle 17 NW\, Washington\, DC\, 20006\, United States
CATEGORIES:Actividad al aire libre
ATTACH;FMTTYPE=image/jpeg:https://nationalcherryblossomfestival.org/wp-content/uploads/2026/03/ds20150412-0486w-2.jpg
GEO:38.8879755;-77.035037
X-APPLE-STRUCTURED-LOCATION;VALUE=URI;X-ADDRESS=Terrenos del Monumento a Washington 130 Calle 17 NW Washington DC 20006 United States;X-APPLE-RADIUS=500;X-TITLE=130 Calle 17 NW:geo:-77.035037,38.8879755
END:VEVENT
END:VCALENDAR