BEGIN:VCALENDAR
VERSION:2.0
PRODID:-//National Cherry Blossom Festival - ECPv6.15.20//NONSGML v1.0//EN
CALSCALE:GREGORIAN
METHOD:PUBLISH
X-WR-CALNAME:National Cherry Blossom Festival
X-ORIGINAL-URL:https://nationalcherryblossomfestival.org/es/
X-WR-CALDESC:Eventos para National Cherry Blossom Festival
REFRESH-INTERVAL;VALUE=DURATION:PT1H
X-Robots-Tag:noindex
X-PUBLISHED-TTL:PT1H
BEGIN:VTIMEZONE
TZID:America/New_York
BEGIN:DAYLIGHT
TZOFFSETFROM:-0500
TZOFFSETTO:-0400
TZNAME:EDT
DTSTART:20250309T070000
END:DAYLIGHT
BEGIN:STANDARD
TZOFFSETFROM:-0400
TZOFFSETTO:-0500
TZNAME:EST
DTSTART:20251102T060000
END:STANDARD
BEGIN:DAYLIGHT
TZOFFSETFROM:-0500
TZOFFSETTO:-0400
TZNAME:EDT
DTSTART:20260308T070000
END:DAYLIGHT
BEGIN:STANDARD
TZOFFSETFROM:-0400
TZOFFSETTO:-0500
TZNAME:EST
DTSTART:20261101T060000
END:STANDARD
BEGIN:DAYLIGHT
TZOFFSETFROM:-0500
TZOFFSETTO:-0400
TZNAME:EDT
DTSTART:20270314T070000
END:DAYLIGHT
BEGIN:STANDARD
TZOFFSETFROM:-0400
TZOFFSETTO:-0500
TZNAME:EST
DTSTART:20271107T060000
END:STANDARD
END:VTIMEZONE
BEGIN:VEVENT
DTSTART;TZID=America/New_York:20260411T110000
DTEND;TZID=America/New_York:20260411T133000
DTSTAMP:20260420T084144
CREATED:20251106T011016Z
LAST-MODIFIED:20260417T161035Z
UID:5462-1775905200-1775914200@nationalcherryblossomfestival.org
SUMMARY:Desfile® del Festival Nacional de los Cerezos en Flor
DESCRIPTION:Una celebración primaveral icónica				\n				\n				\n				\n									Uno de los eventos de espectadores más grandes de DC\, el Desfile del Festival Nacional de los Cerezos en Flor lleno de energía presentado por Events DC se extiende por 10 cuadras a lo largo de®  la icónica Constitution Avenue. Globos gigantes de helio de colores\, carrozas elaboradas\, bandas de música de todo el país\, artistas famosos y artistas irrumpen en la ruta del desfile en un gran espectáculo de música y espectáculo que solo se ve una vez al año durante el Festival.  El desfile está sindicado a nivel nacional y disponible para su visualización hasta el 30 de junio.								\n				\n				\n				\n									\n					\n						\n									Encuentra el desfile en tu cadena de televisión local\n					\n					\n				\n								\n				\n				\n				\n									\n					\n						\n									Informa antes de ir\n					\n					\n				\n								\n				\n				\n				\n									\n					\n						\n									Mira el desfile completo en YouTube\n					\n					\n				\n								\n				\n				\n				\n		\n		\n				\n				\n					Opciones de boletos				\n				\n				\n		\n		\n				\n				\n					Asientos de transmisión (East End) - $ 45				\n				\n				\n				\n									Ubicado entre las calles 7 y 9 NW a lo largo de Constitution Ave\, NW por los Archivos Nacionales 								\n				\n				\n		\n				\n				\n					Finale (West End) – Asientos en la zona de actuación – $34				\n				\n				\n				\n									Ubicado entre las calles 16 y 17 NW a lo largo de Constitution Ave\, NW junto al Monumento a Washington								\n				\n				\n		\n				\n				\n					Finale (West End) – Asientos – $28				\n				\n				\n				\n									Ubicado entre las calles 16 y 17 NW a lo largo de Constitution Ave\, NW junto al Monumento a Washington								\n				\n				\n				\n		\n				\n				\n									\n					\n						\n									Comprar entradas individuales  \n					\n					\n				\n								\n				\n				\n				\n									\n					\n						\n									Reservar entradas para grupos\n					\n					\n				\n								\n				\n				\n		\n				\n				\n					Términos y condiciones:  				\n				\n				\n				\n									El Desfile es un evento de LLUVIA O SOL. Los espectadores pueden planificar ahora para echar un vistazo a toda la maravilla y alegría reservando la fecha para situarse a lo largo del recorrido del desfile GRATIS\, o reservando asientos en gradas designadas.    Todos los invitados necesitan una entrada para los asientos en las gradas\, excepto los niños menores de dos años.  Los niños menores de dos años sin boletos deben sentarse en el regazo de un poseedor de boletos. Se desaconseja el uso de paraguas en las gradas.  Se desaconseja el uso de cochecitos en las gradas de las tribunas ya que no hay espacio de almacenamiento. 								\n				\n				\n				\n					\n				\n		\n					\n				\n				\n									\n					\n						\n									Consulta la programación completa de entretenimiento\n					\n					\n				\n								\n				\n				\n				\n							\n			\n						\n		\n						\n				\n				\n				\n					ARTISTAS 2026				\n				\n				\n				\n					Anastacia McCleskeyAnastacia McCleskey\n\n es una actriz\, cantante y escritora galardonada\, chica sureña de Nashville\,\n Tennessee\, que ha compartido sus dones con el mundo desde que tenía diez años.\nRecientemente interpretó a Carol Evans en el exitoso musical de Broadway BOOP! y como Mary Church\nTerrell en el musical ganador del premio Tony SUFFS.\nOtros espectáculos de Broadway como Waitress como la enfermera Zaney Norma (en streaming en HBO MAX)\,\n Dottie en la reposición de Caroline\nor Change\, una Original DIVA en Priscilla Queen of the Desert\, Abraham\n Lincoln en Hair\, Book of Mormon\, Violet y Tarzán.\nProtagonizó el West End en Cerca de ti.\nFavoritos regionales: Mighty Real\, un fabuloso musical de Sylvester: Izora Rhodes/Coreógrafa\n\,\nJoanne: ALQUILER & Celie: El Color Púrpura @ El Tonto [Mejor Intérprete\n-\nMusical\n-\nEl St. Louis\nTeatro Circle]\, Thalia: Musa en Hércules @ Paper Mill de Disney\,\nTrixie/Eddie: The Tattooed Ladies\, crítica del NY Times elige Ain't Misbehavin' @ Barrington\,\n JO en After-erwords\n@ The 5th Ave\, Sophie\, Mrs. Greer y Perkins en ANNIE LIVE-NBC\n\n.\nRecurrente\n:\n New Amsterdam de NBC como la Dra. Phylicia Elder y The Good Fight como Opal. Otras\npelículas para televisión y películas incluyen Daredevil\, Moral pública\, Madam Secretary\, Release y Sexo en Nueva\nYork 2.\n#h\npodcast ellobeautifulspirits próximamente  				\n				\n				\n				\n					Anita WardAnita Ward\, natural de Memphis\, pasó de ser una tímida estudiante de Rust College y profesora sustituta a la fama mundial con su éxito de 1979 "Ring My Bell"\, que vendió más de 10 millones de copias y encabezó las listas de todo el mundo. Descubierta por Frederick Knight\, realizó giras internacionales y apareció en importantes programas de televisión. Tras un descanso en la música\, regresó en 1995\, actuando a nivel mundial junto a los principales artistas de disco y continuando su carrera con renovada pasión y confianza. Anita ha actuado en el escenario junto a Grace Jones\, The Village People\, Gloria Gaynor\,\n Thelma Houston\, Chic\, Martha Wash y muchas otras estrellas talentosas. Recientemente\, en agosto de 2003\, completó una gira llamada "Get Up And Dance" con estrellas como K C & The\nSunshine Band\, The Trammps\, Maxine Nightingale y muchas otras. La gira de conciertos incluyó ciudades de Estados Unidos y Canadá.\nAunque ahora es esposa a tiempo completo\, gerente asociada y madre\, la música que lleva dentro nunca morirá. Ahora que Sounds of the 70's celebra su renacimiento\, Anita también está resurgiendo. "Hoy cuando canto....\, salgo ahí con mucho más fuego y determinación\, porque ahora he vivido de verdad\nlas canciones que canto"\, dijo Anita.      				\n				\n				\n				\n					Betty Maxwell\nBetty Maxwell es una intérprete\, conferenciante y ex Miss América polifacética que sigue cautivando\na públicos de todo el mundo con su voz\, carisma y versatilidad.\nDurante su reinado\, Betty se convirtió en la Miss América más concurrida de la historia reciente\, patrullando alfombras rojas\n\, presentando en importantes galas de premios\, actuando con orquestas sinfónicas y pronunciando\ndiscursos principales en todo el país. Como Embajadora Nacional de Buena Voluntad para los hospitales Miracle\nNetwork de Child\n\, defendió la salud infantil mientras también realizaba giras internacionales con la\nUSO\, actuando para tropas estadounidenses en ocho países\n\,\n incluyendo Bagdad y Kuwait.\nMujer de muchos talentos\, Betty es actriz de doblaje con firma\, autora de gran\nprestigio\, actriz\, modelo y\n\, sobre todo\, cantante profesional.  Se hizo viral en TikTok gracias a sus potentes\nvoces e impresiones impresionantes\, acumulando más de 2 millones de seguidores en sus plataformas.\nHoy en día\, Betty sigue de gira por el país\, conquistando\nal público con sus actuaciones que\nabarcan géneros\n\n. La puedes encontrar en redes sociales como creadora de contenido\, compartiendo sus impresiones virales\ny cantando para sus millones de fans. Vive junto a la playa de Jupiter\, Florida\,\n con su marido/mejor amigo Spenc\n\, eh\, su recién nacido Solomon y sus dos yorkies de taza\nde tea\, Moose y Batman\n—\ntodos sin cuyo amor y apoyo nada de esto sería\nposible.   				\n				\n				\n				\n					Club NouveauClub Nouveau es una banda de R&B\n\n pop formada por el productor y artista Jay King en\n1986 en Sacramento\, California\, tras la disolución del Timex Social Club. El grupo\nfue fichado por Warner Bros. Records\, en la que Club Nouveau lanzó sus\ntres primeros álbumes. Club Nouveau fue nominado a dos premios Grammy (canción del año\n–\nLean On Me & mejor artista nuevo\n). La versión de Club Nouveau de "Lean on Me" ganó un\npremio Grammy\, fue nominada a\ndos premios musicales estadounidenses\, nominó y ganó un premio Bammy\, nominó y ganó un premio BRE\nDrummer\, nominó y ganó dos premios Narm\, nominó y ganó un premio Bay Area Star\n.     A fecha de 2022\, el\ncatálogo actual de Club Nouveau está formado por Jay King\, Antrice Young y J Ali\, y\neste trío está ahora en el estudio\, trabajando en nuevo material\, entre su actual calendario de giras.\nSu último sencillo "It's Alright"\, lanzado en febrero de 2024\, alcanzó el puesto #27 en\nlas listas urbanas\nde Billboard. Club Nouveau está a punto de lanzar su próximo single en la primera parte de 2025.  				\n				\n				\n				\n					Cyniah EliseCyniah Elise\nes una vocalista poderosa\, bailarina electrizante y estrella en ascenso cuya arte continúa\ncautivar a audiencias de todo el país en la gira nacional del 50º\n\naniversario del legendario musical\n\nde Broadway The Wiz.\nEn cualquier momento\, la verás emocionando al público en el Ensemble o como\nla versión de Dorothy y Glinda La Bruja Buena en esta atemporal producción ganadora de un premio Tony.\nSu primera aparición en el foco nacional fue en 2020\nAmerican Idol\n\, donde su voz llena de alma\ny\nsu presencia imponente conquistaron rápidamente el corazón de los espectadores de todo el país y presentaron al\nmundo su innegable poder de estrella.\nArraigada en un amor de toda la vida por la música y la interpretación\, el camino de Cyniah comenzó en escenarios de iglesia y comunidad\n\, donde\ndesarrolló la rica profundidad vocal y la narrativa emocional que definen sus\nactuaciones actuales. Con una voz que se eleva y una presencia escénica que irradia confianza y calidez\,\n aporta tanto corazón como brillantez a cada papel que interpreta. \nSu regional el\nEntre los créditos de ATRE se incluyen\nThe Wiz\n\,\nUna línea de coro\n\,\nLaca para el pelo\n\,\nDreamgirls\n\,\nUna canción para Adaeze\n\n y\nLa esposa del predicador: El musical\n. Ya sea entregando voces poderosas o dando vida a personajes vibrantes\na través de la danza y la narración\, Cyniah sigue\ndestacándose como una fuerza emocionante y\nversátil en el teatro musical.\nCyniah está profundamente agradecida por los mentores\, la familia y los colaboradores que han apoyado su camino\,\n y está encantada de compartir este escenario con una empresa tan talentosa. Síguela\nen\n @cyniah.elise  \n 				\n				\n				\n				\n					  David Archuleta  Desde que empezó a tomar el foco del pop a los 17 años\, David Archuleta ha encarnado ese tipo de poder de estrella genuino que no se puede fabricar. Tras años deslumbrando al público con su personalidad radiante y su voz fenomenal —un viaje que ha incluido la producción de múltiples éxitos de platino\, alcanzar reconocimiento mundial como un artista cautivador en directo y convertirse en una figura indiscutible en la escena de la cultura pop—\, el cantautor nacido en Miami experimentó una gran transformación personal que cambió radicalmente su identidad como artista.  Como demuestra en sus recientes singles "Crème Brulée" y "Hell Together"\, Archuleta ha ampliado dramáticamente el panorama de su composición y se ha dedicado a hacer música pop con una mezcla igual de emoción intransigente y un impacto estimulante.  \n\n \n\nDurante los próximos meses\, David revelará más música nueva\, y señala que descubrir su voz más auténtica ha implicado encontrar seguridad en sí mismo en lugares inesperados. "Creciendo en la iglesia\, me enseñaron a defender mis creencias y compartirlas con el mundo\, que es exactamente lo que intento hacer con mi música"\, dice.  "Aunque ahora defiendo otra cosa\, sigo teniendo ese mismo nivel de convicción en lo que hago. Creo en ser valiente en mi vulnerabilidad y en decir la verdad de quién soy\, para que la gente pueda salir de mis canciones sintiendo que se entiende a sí misma\, a los demás o simplemente a la vida en general\, un poco mejor que antes."  Crédito de la foto _Irvin Rivera 				\n				\n				\n				\n					Gabby SamoneGabby Samone es una vocalista nacida en Baltimore\, MD\, cuya\nvoz poderosa y una entrega emotiva están arraigadas en el gospel\,\n R&B y soul clásico. Criada en una familia con dotes musicales\, descubrió su pasión por el canto en el coro de su iglesia\n\, donde su inmersión temprana en armonías góspel ayudó a moldear el control vocal\,\n el rango y la profundidad que definen su\narte hoy en día.\nGabby captó por primera vez una gran atención gracias a reinterpretaciones virales de clásicos del R&B\, incluyendo su versión de\n"My All" de Mariah Carey\, que desató la #MyAllChallenge en TikTok. Estas actuaciones\nla presentaron a un\npúblico global y recibieron el reconocimiento de iconos de la música y el entretenimiento como Jennifer Hudson\, Fantasia\nBarrino\, J. Cole\, Jhené Aiko\, Missy Elliott\, Brandy\, SWV\, XSCAPE y la propia Mariah Carey.\nA medida que su visibilidad crecía\, Gabby\npasó del éxito viral a los principales escenarios en directo y teatral.   Abrió para\nleyendas del R&B Keke Wyatt y Kelly Price\, actuó en el histórico Apollo Theater junto al director musical ganador\nde un Grammy\n\n Adam Blackstone\, y debutó en el teatro\ncon Dreamgirls\n. Su versatilidad se puso aún\nmás patente cuando Disney la eligió para recrear e interpretar "Go the Distance" del clásico\nanimado Hércules\n.\nEl perfil nacional de Gabby siguió creciendo con su debut televisivo en\nThe Jennifer Hudson Show\n\, seguido de una\ndestacada etapa como finalista en la temporada 23 de\nAmerican Idol\n.  En 2025\, llegó a nuevas audiencias con una actuación\ndurante el NFL Sunday Night Football y una aparición como invitada en\nThe Kelly Clarkson Show a principios de 2026\n\,\n consolidando su presencia\nen música\, televisión y entretenimiento en vivo.\nAhora\, entrando en el siguiente capítulo de su carrera\, Gabby Samone aporta su rica línea musical\, perspectiva contemporánea\ny innegable presencia vocal a la música original. Con cada actuación\, transmite\nlas voces de su\nfamilia\, su comunidad y su generación\, posicionándose como una artista definitoria con un sonido que honra la tradición\ny sigue adelante.  				\n				\n				\n				\n					Raheem DeVaughnRaheem DeVaughn\, un maestro arquitecto de la música soul\, ha ascendido continuamente en las filas de la brillantez artística. Este fenómeno ganador de un Grammy no es solo un cantante; es un compositor platino\, presentador del Original Quiet Storm en WHUR FM\, un apasionado activista de la salud y los derechos humanos\, y una figura destacada en el ámbito del R&B. Su compromiso inquebrantable con su oficio y sus fans brilla intensamente en cada melodía conmovedora que crea\, ofreciendo un flujo constante de música que resuena profundamente con un público diverso.  \n\n\n\nComo fundador de la LoveLife Foundation\, DeVaughn demuestra su profunda dedicación a mejorar el bienestar físico\, mental y económico de las comunidades de color desfavorecidas. Su defensa va más allá de la música\, otorgándole prestigiosos reconocimientos como el Premio Presidencial al Voluntario de la Administración Biden 2023 y la Clave de la Ciudad de Washington D.C. por su trabajo impactante en la concienciación sobre el VIH/SIDA. \n\n\n\nLa influencia de DeVaughn en la industria musical es innegable. Coronado como el artista independiente #1 en la radio en 2019\, ha creado un espacio único para sí mismo\, especialmente entre mujeres negras de entre 24 y 54 años\, que encuentran voz en sus melodías. En 2024\, participó como panelista en la Cumbre de Salud Mental de la Casa Blanca y actuó en la Casa Blanca como parte de la celebración del Juneteenth junto a grandes como Patti LaBelle\, Charlie Wilson y Kirk Franklin\, logró un éxito en el Top 10 de Billboard con la clásica versión de los Isley Brothers de "Let's Fall In Love"\, e invirtió en una nueva plataforma digital.  Even.biz. Su catálogo de éxitos no solo muestra su talento excepcional\, sino también su dedicación a ofrecer música auténtica y evocadora. El recorrido de Raheem con DeVaughn no se trata solo de hitos musicales; Es un testimonio de su compromiso inquebrantable con el arte\, su comunidad y el poder de la música con alma.     				\n				\n				\n				\n					  Sarah Potenza\nSarah Potenza es una cantante y compositora aclamada por la crítica\, con raíces en Nashville y\nuna base de fans en todo el país. Compitió en Voice y America's Got Talent de NBC. Su segundo álbum\, "Road to Rome"\, alcanzó el\nnúmero uno en las listas de blues de iTunes. El\ndisco\nrecibió críticas entusiastas de Rolling Stone\, Billboard\, American Songwriter y\nNPR. Potenza fue nombrado entre los tres mejores artistas vistos en SXSW por la revista Rolling\nStone.\nSarah está creando música actualmente con el productor ganador de un Grammy\,\n Dave Aude.     				\n				\n				\n				\n					Los SpinnersLos Spinners son uno de los grupos más icónicos y duraderos del panteón clásico\ndel soul. Con un legado imponente que abarca más de seis décadas\, The\nSpinners gozan de un atractivo universal gracias a un catálogo clásico de canciones que se han\nganado su lugar en el Great American Songbook.\nLa formación clásica del grupo —Henry Fambrough\, Billy Henderson\, Pervis\nJackson\, Bobbie Smith y Philippé Wynne— ejemplificaba The Sound of\nPhiladelphia. El productor Thom Bell desplegó su característica mezcla armónica y\nsus voces principales cautivadoras para canalizar los altibajos del romance y\nel desamor en un catálogo de éxitos clásicos. La colaboración con Bell comenzó de forma\nespectacular con "I'll Be Around"\, que alcanzó el puesto #3 en el Top 100 de Billboard\n. Los Spinners mantuvieron la primera posición en las listas de Pop\, R&B y Adult\nContemporary durante los años 70 y principios de los 80\, con singles\nexitosos como "I'll Be Around"\, "Could It Be I'm Falling In Love"\, "Then Came You"\, "The\nRubberband Man" y muchos más\, obteniendo seis nominaciones a los Grammy\, 18\nálbumes de platino y oro\, una estrella en el Paseo de la Fama de Hollywood\,  y vendiendo\nmillones de discos vendidos en todo el mundo en el camino.     Los extraordinarios\nlogros de los Spinners les valieron el Máximo Honor de la Música cuando fueron\nincluidos en el Salón de la Fama del Rock & Roll en 2023. Su legendario repertorio\nha ganado un lugar permanente en el cancionero estadounidense.\nAntes de su exitosa etapa en Atlantic Records\, los Spinners lograron su\néxito como grupo de Motown con "It's A Shame"\, producida y coescrita\npor Stevie Wonder. Este clásico del R&B alcanzó el puesto #14 en la lista Billboard\nHot 100 y el #3 en las listas de R&B.\nLos Spinners siguen siendo uno de los grupos de gira más emocionantes del R&B clásico\, con\nJessie Peck\, Ronnie Moss\, CJ Jefferson y Keith Patterson continuando el\nlegado de armonías nítidas\, coreografía precisa y un espectáculo escénico\nemocionante.   				\n				\n				\n				\n							\n			\n						\n		\n						\n				\n					\n				\n		\n					\n				\n				\n					  DESFILE 2026 - PRESENTADORES DE LA RETRANSMISIÓN				\n				\n				\n				\n							\n			\n			\n				\n			\n				\n				Adam Longo de 7News\n				\n			\n				\n			\n				\n				Adrianna Hopkins de 7News\n				\n		\n		\n						\n				\n				\n				\n							\n			\n			\n				\n			\n				\n				Hanna Battah\, copresentadora de World News Now de ABC  \n				\n			\n				\n			\n				\n				Sophie Flay\, copresentadora de World News Now de ABC  \n				\n		\n		\n						\n				\n				\n				\n					DESFILE 2026 - REPORTEROS CALLEJEROS  				\n				\n				\n				\n							\n			\n			\n				\n			\n				\n				La personalidad televisiva ganadora de un Emmy\, Carson Kressley\n				\n			\n				\n			\n				\n				Megan Clarke de 7News\n				\n		\n		\n						\n				\n				\n				\n					LOCUTORES DEL DESFILE 2026 - WEST END				\n				\n				\n				\n							\n			\n			\n				\n			\n				\n				Chilli de WASH-FM\n				\n			\n				\n			\n				\n				Toby de WASH-FM\n				\n		\n		\n						\n				\n					\n				\n		\n					\n				\n			\n  \n\n		\n				\n			\n  \n\n		\n		\n				\n				\n					¿Interesado en participar en un futuro desfile?				\n				\n				\n				\n									Envía una solicitud hoy mismo. 								\n				\n				\n				\n									\n					\n						\n									Bandas de música: Solicita para 2027–2028\n					\n					\n				\n								\n				\n				\n				\n									\n					\n						\n									Unidades Especializadas en Desfiles: Solicita para 2027–2028\n					\n					\n				\n								\n				\n				\n					\n				\n		\n					\n		\n		\n				\n				\n					Patrocinador Principal 2026				\n				\n				\n		\n		\n				\n				\n																\n															\n															\n				\n				\n		\n				\n				\n																\n															\n															\n				\n				\n		\n				\n		\n				\n				\n				\n		\n		\n				\n				\n					Patrocinadores del Segmento 2026				\n				\n				\n		\n		\n				\n				\n																\n															\n															\n				\n				\n		\n				\n				\n																\n															\n															\n				\n				\n		\n				\n		\n				\n				\n				\n		\n		\n				\n				\n					Patrocinadores del desfile 2026				\n				\n				\n		\n		\n				\n				\n																\n															\n															\n				\n				\n		\n		\n				\n				\n																\n															\n															\n				\n				\n				\n		\n		\n				\n				\n																\n															\n															\n				\n				\n				\n		\n		\n				\n				\n																\n															\n															\n				\n				\n				\n				\n		\n		\n		\n				\n				\n																\n															\n															\n				\n				\n				\n		\n		\n				\n				\n																\n															\n															\n				\n				\n				\n		\n		\n				\n				\n																\n															\n															\n				\n				\n				\n		\n		\n				\n				\n																\n															\n															\n				\n				\n				\n				\n		\n		\n		\n				\n				\n																\n															\n															\n				\n				\n				\n		\n		\n				\n				\n																\n															\n															\n				\n				\n				\n		\n		\n				\n				\n																\n															\n															\n				\n				\n				\n		\n				\n				\n																\n															\n															\n				\n				\n				\n				\n		\n		\n		\n				\n				\n							\n							\n											\n\n											CSI Impresión y Gráficos\n											\n									\n								\n											\n\n											Universidad del Distrito de Columbia\n											\n									\n						\n						\n				\n				\n				\n		\n		\n				\n				\n																														\n				\n				\n		\n				\n				\n																														\n				\n				\n		\n				\n				\n																														\n				\n				\n		\n				\n				\n																														\n				\n				\n				\n		\n		\n				\n				\n																														\n				\n				\n		\n				\n		\n				\n		\n				\n				\n				\n		\n		\n				\n				\n									PATROCINADORES 2025 								\n				\n				\n		\n		\n				\n				\n																														\n				\n				\n		\n				\n				\n																														\n				\n				\n		\n				\n				\n																														\n				\n				\n		\n				\n				\n																														\n				\n				\n				\n				\n		\n		\n				\n				\n									Patrocinadores de medios 2026 								\n				\n				\n		\n		\n				\n				\n																\n															\n															\n				\n				\n		\n				\n				\n																\n															\n															\n				\n				\n		\n				\n				\n																\n															\n															\n				\n				\n		\n				\n				\n																\n															\n															\n				\n				\n				\n				\n		\n				\n				\n							\n							\n											\n\n											El Informante de Washington\n											\n									\n								\n											\n\n											El Tiempo Latino  \n											\n									\n						\n						\n				\n				\n		\n		\n				\n				\n									especial thANKS 								\n				\n				\n				\n				\n									Servicio de Parques NacionalesEmbajada de JapónLa Fundación JapónGobierno del Distrito de Columbia 								\n				\n				\n					\n				\n		\n					\n		\n		\n		\n		\n		\n		\n				\n				\n							\n			\n						\n		\n						\n				\n				\n				\n		\n				\n				\n					Acceso a la movilidad				\n				\n				\n				\n									Este evento es accesible para sillas de ruedas. 								\n				\n				\n				\n				\n		\n		\n		\n		\n				\n				\n							\n			\n						\n		\n						\n				\n				\n				\n		\n				\n				\n					Acceso a la comunicación				\n				\n				\n				\n									Se proporcionará interpretación de ASL. 								\n				\n				\n				\n				\n		\n		\n		\n		\n				\n				\n							\n			\n						\n		\n						\n				\n				\n				\n		\n				\n				\n					Animales de servicio				\n				\n				\n				\n									Siempre se permiten animales de servicio. 								\n				\n				\n				\n				\n				\n				\n					\n				\n		\n					\n		\n		\n		\n		\n		\n		\n				\n				\n							\n			\n						\n		\n						\n				\n				\n				\n		\n				\n				\n					Consideraciones sensoriales				\n				\n				\n				\n									Este evento suele atraer a grandes multitudes y puede ser ruidoso. Si alguien en su grupo tiene sensibilidades sensoriales\, es posible que desee traer auriculares o tapones para los oídos.  								\n				\n				\n				\n				\n		\n		\n		\n		\n				\n				\n							\n			\n						\n		\n						\n				\n				\n				\n		\n				\n				\n					Asientos				\n				\n				\n				\n									Hay asientos accesibles disponibles. Si usted o algún miembro de su grupo necesita una disposición específica de asientos\, por favor contacte con rsvp@ncbfdc.org con antelación para que podamos atender sus necesidades.  								\n				\n				\n				\n				\n				\n				\n					\n				\n		\n					\n				\n				\n					Alojamientos adicionales				\n				\n				\n				\n									Para cualquier otra necesidad de accesibilidad\, comuníquese con ncbf@ncbf.org para que podamos ayudarlo a garantizar una experiencia positiva 								\n				\n					\n				\n		\n					\n				\n				\n							\n			\n						\n		\n						\n				\n				\n				\n					Resumen del evento				\n				\n		\n		\n				\n				\n					\n	Desfile® del Festival Nacional de los Cerezos en Flor				\n				\n				\n				\n					\n		\n			abril 11\n\n	\n\n	  @  \n\n\n11:00\n\n		\n\n\n\n	\n	  -  \n\n13:30\n\n\n\n	\n				\n				\n				\n				\n					\n				\n				\n	\n	\n	\n\n16th St NW y Constitution Ave NW\n	\n		\n		Washington\,\n\n	DC\n\n	20004\n\n	United States\n\n\n\n\n\n		\n	\n				\n				\n				\n				\n		\n		\n		\n					\n				\n				\n					\n	\n\n	Categorías:	\n		Desfile / Actuación\, Evento emblemático
URL:https://nationalcherryblossomfestival.org/es/event/desfile-del-festival-nacional-de-los-cerezos-en-flor-presentado-por-events-dc/
LOCATION:Avenida Constitución\, NW\, 16th St NW y Constitution Ave NW\, Washington\, DC\, 20004\, United States
CATEGORIES:Desfile / Actuación,Evento emblemático
ATTACH;FMTTYPE=image/jpeg:https://nationalcherryblossomfestival.org/wp-content/uploads/2026/01/NCBF-Parade-Jason-Dixson-Photography-250412-105413-0100-X3-1.jpg
GEO:38.8926262;-77.036548
X-APPLE-STRUCTURED-LOCATION;VALUE=URI;X-ADDRESS=Avenida Constitución NW 16th St NW y Constitution Ave NW Washington DC 20004 United States;X-APPLE-RADIUS=500;X-TITLE=16th St NW y Constitution Ave NW:geo:-77.036548,38.8926262
END:VEVENT
END:VCALENDAR