BEGIN:VCALENDAR
VERSION:2.0
PRODID:-//National Cherry Blossom Festival - ECPv6.15.20//NONSGML v1.0//EN
CALSCALE:GREGORIAN
METHOD:PUBLISH
X-WR-CALNAME:National Cherry Blossom Festival
X-ORIGINAL-URL:https://nationalcherryblossomfestival.org/es/
X-WR-CALDESC:Eventos para National Cherry Blossom Festival
REFRESH-INTERVAL;VALUE=DURATION:PT1H
X-Robots-Tag:noindex
X-PUBLISHED-TTL:PT1H
BEGIN:VTIMEZONE
TZID:America/New_York
BEGIN:DAYLIGHT
TZOFFSETFROM:-0500
TZOFFSETTO:-0400
TZNAME:EDT
DTSTART:20250309T070000
END:DAYLIGHT
BEGIN:STANDARD
TZOFFSETFROM:-0400
TZOFFSETTO:-0500
TZNAME:EST
DTSTART:20251102T060000
END:STANDARD
BEGIN:DAYLIGHT
TZOFFSETFROM:-0500
TZOFFSETTO:-0400
TZNAME:EDT
DTSTART:20260308T070000
END:DAYLIGHT
BEGIN:STANDARD
TZOFFSETFROM:-0400
TZOFFSETTO:-0500
TZNAME:EST
DTSTART:20261101T060000
END:STANDARD
BEGIN:DAYLIGHT
TZOFFSETFROM:-0500
TZOFFSETTO:-0400
TZNAME:EDT
DTSTART:20270314T070000
END:DAYLIGHT
BEGIN:STANDARD
TZOFFSETFROM:-0400
TZOFFSETTO:-0500
TZNAME:EST
DTSTART:20271107T060000
END:STANDARD
END:VTIMEZONE
BEGIN:VEVENT
DTSTART;TZID=America/New_York:20260404T173000
DTEND;TZID=America/New_York:20260404T203000
DTSTAMP:20260425T062532
CREATED:20260305T072840Z
LAST-MODIFIED:20260323T140245Z
UID:21677-1775323800-1775334600@nationalcherryblossomfestival.org
SUMMARY:Flores\, belleza y puertas secretas en el Museo O de la Mansión
DESCRIPTION:¡Celebra la primavera con una velada encantadora en el Museo O de la Mansión!  Conoce a las Princesas Flor de Cerezo de todo Estados Unidos y territorios para una tarde de cultura\, conversación y descubrimiento. Disfruta de una visita autoguiada al legendario Museo de la Puerta Secreta\, explora la exposición Jardines Secretos de Asia y conecta con ligeros refrescos.    📅 Puertas abiertas para la visita: 17:30👑 Reunión de Princesas: 18:30–20:30   El programa Princess\, fundado en 1948\, promueve el intercambio cultural y el liderazgo a través de una semana de experiencias inolvidables en Washington\, D.C.   No pierdas esta rara oportunidad de relacionarte con los líderes del mañana en un entorno único.   								\n				\n					\n				\n		\n					\n		\n				\n				\n																														\n				\n				\n		\n				\n				\n																														\n				\n				\n					\n				\n		\n					\n		\n		\n		\n		\n		\n		\n				\n				\n							\n			\n						\n		\n						\n				\n				\n				\n		\n				\n				\n					Acceso a la movilidad				\n				\n				\n				\n									Este evento es accesible para sillas de ruedas. 								\n				\n				\n				\n				\n		\n		\n		\n		\n				\n				\n							\n			\n						\n		\n						\n				\n				\n				\n		\n				\n				\n					Acceso a la comunicación				\n				\n				\n				\n									Se proporcionará interpretación de ASL. 								\n				\n				\n				\n				\n		\n		\n		\n		\n				\n				\n							\n			\n						\n		\n						\n				\n				\n				\n		\n				\n				\n					Accesibilidad a medios / vídeo				\n				\n				\n				\n									La audiodescripción está disponible. 								\n				\n				\n				\n				\n				\n				\n					\n				\n		\n					\n				\n				\n					Alojamientos adicionales				\n				\n				\n				\n									Este evento es producido por O Museum en The Mansion. Para cualquier información adicional u otras necesidades de accesibilidad\, por favor contacta con Ayanna Brown en gm@omuseum.org
URL:https://nationalcherryblossomfestival.org/es/event/flores-belleza-y-puertas-secretas-en-el-museo-o-de-la-mansion/
LOCATION:Museo O en la Mansión\, 2020 O Street NW\, Washington\, DC\, 20036\, United States
ATTACH;FMTTYPE=image/jpeg:https://nationalcherryblossomfestival.org/wp-content/uploads/2026/03/Blossoms-Beauty-Featured_Image.jpg
GEO:38.9083536;-77.0458309
X-APPLE-STRUCTURED-LOCATION;VALUE=URI;X-ADDRESS=Museo O en la Mansión 2020 O Street NW Washington DC 20036 United States;X-APPLE-RADIUS=500;X-TITLE=2020 O Street NW:geo:-77.0458309,38.9083536
END:VEVENT
END:VCALENDAR