BEGIN:VCALENDAR
VERSION:2.0
PRODID:-//National Cherry Blossom Festival - ECPv6.15.20//NONSGML v1.0//EN
CALSCALE:GREGORIAN
METHOD:PUBLISH
X-WR-CALNAME:National Cherry Blossom Festival
X-ORIGINAL-URL:https://nationalcherryblossomfestival.org/es/
X-WR-CALDESC:Eventos para National Cherry Blossom Festival
REFRESH-INTERVAL;VALUE=DURATION:PT1H
X-Robots-Tag:noindex
X-PUBLISHED-TTL:PT1H
BEGIN:VTIMEZONE
TZID:America/New_York
BEGIN:DAYLIGHT
TZOFFSETFROM:-0500
TZOFFSETTO:-0400
TZNAME:EDT
DTSTART:20250309T070000
END:DAYLIGHT
BEGIN:STANDARD
TZOFFSETFROM:-0400
TZOFFSETTO:-0500
TZNAME:EST
DTSTART:20251102T060000
END:STANDARD
BEGIN:DAYLIGHT
TZOFFSETFROM:-0500
TZOFFSETTO:-0400
TZNAME:EDT
DTSTART:20260308T070000
END:DAYLIGHT
BEGIN:STANDARD
TZOFFSETFROM:-0400
TZOFFSETTO:-0500
TZNAME:EST
DTSTART:20261101T060000
END:STANDARD
BEGIN:DAYLIGHT
TZOFFSETFROM:-0500
TZOFFSETTO:-0400
TZNAME:EDT
DTSTART:20270314T070000
END:DAYLIGHT
BEGIN:STANDARD
TZOFFSETFROM:-0400
TZOFFSETTO:-0500
TZNAME:EST
DTSTART:20271107T060000
END:STANDARD
END:VTIMEZONE
BEGIN:VEVENT
DTSTART;TZID=America/New_York:20260409T170000
DTEND;TZID=America/New_York:20260409T200000
DTSTAMP:20260420T102351
CREATED:20260327T203157Z
LAST-MODIFIED:20260410T193309Z
UID:24685-1775754000-1775764800@nationalcherryblossomfestival.org
SUMMARY:Ritmos rosas
DESCRIPTION:Disfruta la temporada de los cerezos en flor con una serie de happy hour al aire libre con DJs de los mejores talentos locales. Los jueves del 26 de marzo\, 2 y 9 de abril\, disfruta de comida y bebidas de temporada en quioscos de parques acuáticos rodeados de música electrónica\, bailarines go-go y todo lo relacionado con el rosa.  								\n				\n				\n				\n																														\n				\n		\n		\n		\n		\n		\n		\n		\n		\n				\n				\n							\n			\n						\n		\n						\n				\n				\n				\n		\n				\n				\n					Acceso a la movilidad				\n				\n				\n				\n									Este evento es accesible para sillas de ruedas. 								\n				\n				\n				\n				\n		\n		\n		\n		\n				\n				\n							\n			\n						\n		\n						\n				\n				\n				\n		\n				\n				\n					Animales de servicio				\n				\n				\n				\n									Siempre se permiten animales de servicio. 								\n				\n				\n				\n				\n				\n				\n				\n				\n					\n				\n		\n					\n		\n				\n				\n					Alojamientos adicionales				\n				\n				\n				\n									Este evento es organizado por el Distrito de Mejora Empresarial de National Landing. Para otras necesidades de accesibilidad\, por favor contacta con Matt Jones – matt@nationallanding.org    Para más información sobre el evento\, envía un correo electrónico a admin@nationallanding.org
URL:https://nationalcherryblossomfestival.org/es/event/ritmos-rosas-3/
LOCATION:Parque Acuático de National Landing\, 1601 Crystal Drive\, Arlington\, VA\, 22202\, United States
CATEGORIES:Actividad al aire libre,Comida y bebida,Evento de estreno,Música
ATTACH;FMTTYPE=image/jpeg:https://nationalcherryblossomfestival.org/wp-content/uploads/2026/03/large-Pink-Beats-Event-Photo.jpg
GEO:38.8586813;-77.0487135
X-APPLE-STRUCTURED-LOCATION;VALUE=URI;X-ADDRESS=Parque Acuático de National Landing 1601 Crystal Drive Arlington VA 22202 United States;X-APPLE-RADIUS=500;X-TITLE=1601 Crystal Drive:geo:-77.0487135,38.8586813
END:VEVENT
END:VCALENDAR