BEGIN:VCALENDAR
VERSION:2.0
PRODID:-//National Cherry Blossom Festival - ECPv6.15.20//NONSGML v1.0//EN
CALSCALE:GREGORIAN
METHOD:PUBLISH
X-WR-CALNAME:National Cherry Blossom Festival
X-ORIGINAL-URL:https://nationalcherryblossomfestival.org/es/
X-WR-CALDESC:Eventos para National Cherry Blossom Festival
REFRESH-INTERVAL;VALUE=DURATION:PT1H
X-Robots-Tag:noindex
X-PUBLISHED-TTL:PT1H
BEGIN:VTIMEZONE
TZID:America/New_York
BEGIN:DAYLIGHT
TZOFFSETFROM:-0500
TZOFFSETTO:-0400
TZNAME:EDT
DTSTART:20250309T070000
END:DAYLIGHT
BEGIN:STANDARD
TZOFFSETFROM:-0400
TZOFFSETTO:-0500
TZNAME:EST
DTSTART:20251102T060000
END:STANDARD
BEGIN:DAYLIGHT
TZOFFSETFROM:-0500
TZOFFSETTO:-0400
TZNAME:EDT
DTSTART:20260308T070000
END:DAYLIGHT
BEGIN:STANDARD
TZOFFSETFROM:-0400
TZOFFSETTO:-0500
TZNAME:EST
DTSTART:20261101T060000
END:STANDARD
BEGIN:DAYLIGHT
TZOFFSETFROM:-0500
TZOFFSETTO:-0400
TZNAME:EDT
DTSTART:20270314T070000
END:DAYLIGHT
BEGIN:STANDARD
TZOFFSETFROM:-0400
TZOFFSETTO:-0500
TZNAME:EST
DTSTART:20271107T060000
END:STANDARD
END:VTIMEZONE
BEGIN:VEVENT
DTSTART;TZID=America/New_York:20260412T100000
DTEND;TZID=America/New_York:20260412T140000
DTSTAMP:20260420T064508
CREATED:20260407T070216Z
LAST-MODIFIED:20260407T070806Z
UID:26942-1775988000-1776002400@nationalcherryblossomfestival.org
SUMMARY:Sesiones de sonidos Blossom Block: Florecimiento\, Equilibrio y Respiración"
DESCRIPTION:Yoga y mezcla de té   Celebra la temporada de los cerezos en flor con Blossom Block Sound Sessions\, un festival vecinal de una semana donde la música se encuentra con el sabor. Cada evento está diseñado para estimular los sentidos mediante  Combina música en directo con experiencias seleccionadas de comida y bebida\, igual que un menú degustación\, pero para tus oídos y tu paladar.   Únete a nosotros en las Sesiones Blossom Block Sound: «Florecer\, Equilibrar y Respirar»—una mañana dedicada a la salud\, el bienestar y la comunidad.   Disfruta de una sesión de yoga rejuvenecedora dirigida por Charnal Chaney de BOLD YogaLuego relájate con un taller práctico de mezcla de té de The Sweet Life of Tea   Domingo\, 12 de abril10:00–14:00Distrito Bridge (600 Howard Rd SE)   ¡El evento está completo!   Ven a respirar hondo\, muévete con intención y crea tu propia mezcla de té personalizada para llevar a casa 								\n				\n				\n				\n							\n			\n						\n		\n						\n				\n				\n				\n									Este evento forma parte de la Iniciativa Blossom Block. Novedad este año a través del programa City in Bloom del Festival\, los Distritos de Mejora Empresarial y las Calles Principales de DC crearán Blossom Blocks—espacios vibrantes y llamativos con elementos interactivos. Estas activaciones a corto plazo llevan la magia de la Cuenca Marea a barrios de toda la ciudad. Cada Blossom Block está diseñado como un destino único\, ofreciendo experiencias memorables y momentos dignos de una foto que merece la pena buscar.
URL:https://nationalcherryblossomfestival.org/es/event/sesiones-de-sonidos-blossom-block-florecimiento-equilibrio-y-respiracion/
LOCATION:Distrito de Bridge\, 600 Howard Rd SE\, Washington\, DC\, 20020\, United States
CATEGORIES:Actividad al aire libre,Comida y bebida,Música
ATTACH;FMTTYPE=image/jpeg:https://nationalcherryblossomfestival.org/wp-content/uploads/2026/04/2026_BlossomBlockSoundSessions_1080x1350_BloomBlossomBreathe.jpg
GEO:38.8651547;-77.0007383
X-APPLE-STRUCTURED-LOCATION;VALUE=URI;X-ADDRESS=Distrito de Bridge 600 Howard Rd SE Washington DC 20020 United States;X-APPLE-RADIUS=500;X-TITLE=600 Howard Rd SE:geo:-77.0007383,38.8651547
END:VEVENT
END:VCALENDAR