BEGIN:VCALENDAR
VERSION:2.0
PRODID:-//National Cherry Blossom Festival - ECPv6.15.20//NONSGML v1.0//EN
CALSCALE:GREGORIAN
METHOD:PUBLISH
X-WR-CALNAME:National Cherry Blossom Festival
X-ORIGINAL-URL:https://nationalcherryblossomfestival.org
X-WR-CALDESC:Events for National Cherry Blossom Festival
REFRESH-INTERVAL;VALUE=DURATION:PT1H
X-Robots-Tag:noindex
X-PUBLISHED-TTL:PT1H
BEGIN:VTIMEZONE
TZID:America/New_York
BEGIN:DAYLIGHT
TZOFFSETFROM:-0500
TZOFFSETTO:-0400
TZNAME:EDT
DTSTART:20250309T070000
END:DAYLIGHT
BEGIN:STANDARD
TZOFFSETFROM:-0400
TZOFFSETTO:-0500
TZNAME:EST
DTSTART:20251102T060000
END:STANDARD
BEGIN:DAYLIGHT
TZOFFSETFROM:-0500
TZOFFSETTO:-0400
TZNAME:EDT
DTSTART:20260308T070000
END:DAYLIGHT
BEGIN:STANDARD
TZOFFSETFROM:-0400
TZOFFSETTO:-0500
TZNAME:EST
DTSTART:20261101T060000
END:STANDARD
BEGIN:DAYLIGHT
TZOFFSETFROM:-0500
TZOFFSETTO:-0400
TZNAME:EDT
DTSTART:20270314T070000
END:DAYLIGHT
BEGIN:STANDARD
TZOFFSETFROM:-0400
TZOFFSETTO:-0500
TZNAME:EST
DTSTART:20271107T060000
END:STANDARD
END:VTIMEZONE
BEGIN:VEVENT
DTSTART;TZID=America/New_York:20260412T130000
DTEND;TZID=America/New_York:20260412T150000
DTSTAMP:20260420T065014
CREATED:20260309T100152Z
LAST-MODIFIED:20260323T141343Z
UID:20928-1775998800-1776006000@nationalcherryblossomfestival.org
SUMMARY:Beyond the Studio Workshop: Linocut with Lea Craigie
DESCRIPTION:Learn the art of linocut printmaking with multidiscipline artist and arts educator Lea Craigie. In this workshop\, participants will learn about Lea’s practice while they prep\, carve\, and print their own cherry blossom inspired creation. Space is limited and registration is required.    Buy tickets here 								\n				\n					\n				\n		\n					\n				\n				\n																														\n				\n					\n				\n		\n					\n		\n		\n		\n		\n		\n		\n				\n				\n							\n			\n						\n		\n						\n				\n				\n				\n		\n				\n				\n					Mobility Access				\n				\n				\n				\n									This event is wheelchair-accessible. 								\n				\n				\n				\n				\n		\n		\n		\n		\n				\n				\n							\n			\n						\n		\n						\n				\n				\n				\n		\n				\n				\n					Communication Access				\n				\n				\n				\n									ASL interpretation will be provided. 								\n				\n				\n				\n				\n		\n		\n		\n		\n				\n				\n							\n			\n						\n		\n						\n				\n				\n				\n		\n				\n				\n					Service Animals				\n				\n				\n				\n									Service animals are always allowed. 								\n				\n				\n				\n				\n				\n				\n					\n				\n		\n					\n				\n				\n					Additional Accommodations				\n				\n				\n				\n									This event is produced by Smithsonian American Art Museum. For additional info\, please reach out to Bridget Callahan at Amy Hutchins at hutchina@si.edu For any other accessibility needs\, please reach out to Bridget Callahan at callahanb@si.edu ASL interpreter available upon request prior to program.
URL:https://nationalcherryblossomfestival.org/event/beyond-the-studio-workshop-linocut-with-lea-craigie/
LOCATION:Smithsonian American Art Museum\, 8th and G Streets\, NW\, Washington\, DC\, 20004\, United States
ATTACH;FMTTYPE=image/jpeg:https://nationalcherryblossomfestival.org/wp-content/uploads/2026/03/Linocut-with-Lea-Craigie-Featured-image.jpg
GEO:38.8984545;-77.0229439
X-APPLE-STRUCTURED-LOCATION;VALUE=URI;X-ADDRESS=Smithsonian American Art Museum 8th and G Streets NW Washington DC 20004 United States;X-APPLE-RADIUS=500;X-TITLE=8th and G Streets\, NW:geo:-77.0229439,38.8984545
END:VEVENT
END:VCALENDAR