BEGIN:VCALENDAR
VERSION:2.0
PRODID:-//National Cherry Blossom Festival - ECPv6.15.20//NONSGML v1.0//EN
CALSCALE:GREGORIAN
METHOD:PUBLISH
X-WR-CALNAME:National Cherry Blossom Festival
X-ORIGINAL-URL:https://nationalcherryblossomfestival.org
X-WR-CALDESC:Events for National Cherry Blossom Festival
REFRESH-INTERVAL;VALUE=DURATION:PT1H
X-Robots-Tag:noindex
X-PUBLISHED-TTL:PT1H
BEGIN:VTIMEZONE
TZID:America/New_York
BEGIN:DAYLIGHT
TZOFFSETFROM:-0500
TZOFFSETTO:-0400
TZNAME:EDT
DTSTART:20250309T070000
END:DAYLIGHT
BEGIN:STANDARD
TZOFFSETFROM:-0400
TZOFFSETTO:-0500
TZNAME:EST
DTSTART:20251102T060000
END:STANDARD
BEGIN:DAYLIGHT
TZOFFSETFROM:-0500
TZOFFSETTO:-0400
TZNAME:EDT
DTSTART:20260308T070000
END:DAYLIGHT
BEGIN:STANDARD
TZOFFSETFROM:-0400
TZOFFSETTO:-0500
TZNAME:EST
DTSTART:20261101T060000
END:STANDARD
BEGIN:DAYLIGHT
TZOFFSETFROM:-0500
TZOFFSETTO:-0400
TZNAME:EDT
DTSTART:20270314T070000
END:DAYLIGHT
BEGIN:STANDARD
TZOFFSETFROM:-0400
TZOFFSETTO:-0500
TZNAME:EST
DTSTART:20271107T060000
END:STANDARD
END:VTIMEZONE
BEGIN:VEVENT
DTSTART;TZID=America/New_York:20260319T160000
DTEND;TZID=America/New_York:20260319T190000
DTSTAMP:20260425T130309
CREATED:20260305T005414Z
LAST-MODIFIED:20260323T200106Z
UID:20338-1773936000-1773946800@nationalcherryblossomfestival.org
SUMMARY:Stumpy's Petals & Paddles Race
DESCRIPTION:The Second Annual Pedal Boat Race promises an exciting celebration of spring in Washington\, D.C. This event invites participants of all ages to race pedal boats across the iconic Tidal Basin\, a beautiful body of water surrounded by the famous monuments and memorials. Racers will navigate their boats past the delicate blossoms that attract visitors from around the world each year. The race features friendly heats\, with awards for the fastest and best-dressed participants. 50% of the net proceeds will go towards the Trust for the National Cherry Blossom Tree Endowment Fund to protect Stumpy and his friends! Register for the Race 								\n				\n					\n				\n		\n					\n		\n				\n				\n																														\n				\n				\n		\n				\n				\n																														\n				\n				\n					\n				\n		\n					\n		\n		\n		\n		\n		\n		\n				\n				\n							\n			\n						\n		\n						\n				\n				\n				\n		\n				\n				\n					Mobility Access				\n				\n				\n				\n									This event is wheelchair-accessible. 								\n				\n				\n				\n				\n		\n		\n		\n		\n				\n				\n							\n			\n						\n		\n						\n				\n				\n				\n		\n				\n				\n					Service Animals				\n				\n				\n				\n									Service animals are always allowed. 								\n				\n				\n				\n				\n				\n				\n					\n				\n		\n					\n				\n				\n					Additional Accommodations				\n				\n				\n				\n									This event is produced by Adventures Unbound (Guest Services\, Inc). For any additional info and other accessibility needs\, please reach out to CJ Brenner at dcboatinginfo@guestservices.com 
URL:https://nationalcherryblossomfestival.org/event/stumpys-petal-paddles-race/
LOCATION:1501 Maine Ave SW Washington\, DC 20004\, 1501 Maine Ave SW\, Washington\, DC\, 20004\, United States
CATEGORIES:Outdoor Activity
ATTACH;FMTTYPE=image/jpeg:https://nationalcherryblossomfestival.org/wp-content/uploads/2026/03/Stumpys-Race-Logo.jpg
GEO:38.8848757;-77.034561
X-APPLE-STRUCTURED-LOCATION;VALUE=URI;X-ADDRESS=1501 Maine Ave SW Washington DC 20004 1501 Maine Ave SW Washington DC 20004 United States;X-APPLE-RADIUS=500;X-TITLE=1501 Maine Ave SW:geo:-77.034561,38.8848757
END:VEVENT
END:VCALENDAR