BEGIN:VCALENDAR
VERSION:2.0
PRODID:-//National Cherry Blossom Festival - ECPv6.15.20//NONSGML v1.0//EN
CALSCALE:GREGORIAN
METHOD:PUBLISH
X-WR-CALNAME:National Cherry Blossom Festival
X-ORIGINAL-URL:https://nationalcherryblossomfestival.org/ja/
X-WR-CALDESC:National Cherry Blossom Festival のイベント
REFRESH-INTERVAL;VALUE=DURATION:PT1H
X-Robots-Tag:noindex
X-PUBLISHED-TTL:PT1H
BEGIN:VTIMEZONE
TZID:America/New_York
BEGIN:DAYLIGHT
TZOFFSETFROM:-0500
TZOFFSETTO:-0400
TZNAME:EDT
DTSTART:20250309T070000
END:DAYLIGHT
BEGIN:STANDARD
TZOFFSETFROM:-0400
TZOFFSETTO:-0500
TZNAME:EST
DTSTART:20251102T060000
END:STANDARD
BEGIN:DAYLIGHT
TZOFFSETFROM:-0500
TZOFFSETTO:-0400
TZNAME:EDT
DTSTART:20260308T070000
END:DAYLIGHT
BEGIN:STANDARD
TZOFFSETFROM:-0400
TZOFFSETTO:-0500
TZNAME:EST
DTSTART:20261101T060000
END:STANDARD
BEGIN:DAYLIGHT
TZOFFSETFROM:-0500
TZOFFSETTO:-0400
TZNAME:EDT
DTSTART:20270314T070000
END:DAYLIGHT
BEGIN:STANDARD
TZOFFSETFROM:-0400
TZOFFSETTO:-0500
TZNAME:EST
DTSTART:20271107T060000
END:STANDARD
END:VTIMEZONE
BEGIN:VEVENT
DTSTART;TZID=America/New_York:20260412T120000
DTEND;TZID=America/New_York:20260412T190000
DTSTAMP:20260420T065318
CREATED:20260322T065130Z
LAST-MODIFIED:20260402T213943Z
UID:23059-1775995200-1776020400@nationalcherryblossomfestival.org
SUMMARY:ジャズとブロッサムズ
DESCRIPTION:ダウンタウンDCBIDはWords Beats and Lifeと提携し、フランクリンパークを音楽、芸術、コミュニティの活気ある春の遊び場へと変貌させます。ライブパフォーマンスにジャムセッションをしたり、クリエイティブなワークショップに参加したり、ローラースケートやダブルダッチ、あるいはただグルーヴに浸るなど、新しいことに挑戦しましょう。この終日開催の家族向けのフェスティバルは、究極の春の逃避です。音楽を楽しみに、魔法のためにここに留まり、春の花を一拍一つに咲かせましょう!    詳細は https://www.downtowndc.org/events/jazz-and-blossoms-2026/ をご覧ください。 								\n				\n					\n				\n		\n				\n				\n							\n			\n			\n				\n			\n			\n				\n			\n			\n				\n			\n			\n				\n			\n			\n				\n			\n			\n				\n			\n			\n				\n			\n			\n				\n			\n			\n				\n			\n		\n		\n						\n				\n				\n		\n					\n		\n		\n		\n		\n		\n		\n		\n				\n				\n							\n			\n						\n		\n						\n				\n				\n				\n		\n				\n				\n					モビリティアクセス				\n				\n				\n				\n									このイベントは車椅子でアクセスできます。 								\n				\n				\n				\n				\n		\n		\n		\n		\n				\n				\n							\n			\n						\n		\n						\n				\n				\n				\n		\n				\n				\n					介助動物				\n				\n				\n				\n									介助動物の同伴は常時可能です。 								\n				\n				\n				\n				\n				\n				\n				\n					\n				\n		\n					\n				\n				\n					追加の宿泊施設				\n				\n				\n				\n									このイベントはダウンタウンDCビジネス改善地区(BID)によって主催されています。 詳細については、メールで お問い合わせください ebony@downtowndc.org その他のアクセシビリティに関するご要望は、ルーカス・ウマナ(lukas@downtowndc.org)までお問い合わせください。
URL:https://nationalcherryblossomfestival.org/ja/event/%e3%82%b8%e3%83%a3%e3%82%ba%e3%81%a8%e3%83%96%e3%83%ad%e3%83%83%e3%82%b5%e3%83%a0%e3%82%ba/
LOCATION:フランクリン・パーク\, 1315 I(アイ)ストリートNW\, ワシントン\, 直流\, 20005\, United States
CATEGORIES:パレード / パフォーマンス,プレミアイベント,屋外アクティビティ,音楽
ATTACH;FMTTYPE=image/jpeg:https://nationalcherryblossomfestival.org/wp-content/uploads/2026/03/Downtown-DC-Jazz-and-Blossoms-Jason-Dixson-Photography-250406-15-45-22-3677-e1774164159275.jpg
GEO:38.9042148;-77.0290995
X-APPLE-STRUCTURED-LOCATION;VALUE=URI;X-ADDRESS=フランクリン・パーク 1315 I(アイ)ストリートNW ワシントン 直流 20005 United States;X-APPLE-RADIUS=500;X-TITLE=1315 I(アイ)ストリートNW:geo:-77.0290995,38.9042148
END:VEVENT
END:VCALENDAR