BEGIN:VCALENDAR
VERSION:2.0
PRODID:-//National Cherry Blossom Festival - ECPv6.15.20//NONSGML v1.0//EN
CALSCALE:GREGORIAN
METHOD:PUBLISH
X-WR-CALNAME:National Cherry Blossom Festival
X-ORIGINAL-URL:https://nationalcherryblossomfestival.org/ja/
X-WR-CALDESC:National Cherry Blossom Festival のイベント
REFRESH-INTERVAL;VALUE=DURATION:PT1H
X-Robots-Tag:noindex
X-PUBLISHED-TTL:PT1H
BEGIN:VTIMEZONE
TZID:America/New_York
BEGIN:DAYLIGHT
TZOFFSETFROM:-0500
TZOFFSETTO:-0400
TZNAME:EDT
DTSTART:20250309T070000
END:DAYLIGHT
BEGIN:STANDARD
TZOFFSETFROM:-0400
TZOFFSETTO:-0500
TZNAME:EST
DTSTART:20251102T060000
END:STANDARD
BEGIN:DAYLIGHT
TZOFFSETFROM:-0500
TZOFFSETTO:-0400
TZNAME:EDT
DTSTART:20260308T070000
END:DAYLIGHT
BEGIN:STANDARD
TZOFFSETFROM:-0400
TZOFFSETTO:-0500
TZNAME:EST
DTSTART:20261101T060000
END:STANDARD
BEGIN:DAYLIGHT
TZOFFSETFROM:-0500
TZOFFSETTO:-0400
TZNAME:EDT
DTSTART:20270314T070000
END:DAYLIGHT
BEGIN:STANDARD
TZOFFSETFROM:-0400
TZOFFSETTO:-0500
TZNAME:EST
DTSTART:20271107T060000
END:STANDARD
END:VTIMEZONE
BEGIN:VEVENT
DTSTART;TZID=America/New_York:20260412T090000
DTEND;TZID=America/New_York:20260412T130000
DTSTAMP:20260420T050207
CREATED:20260323T072657Z
LAST-MODIFIED:20260323T142112Z
UID:23225-1775984400-1775998800@nationalcherryblossomfestival.org
SUMMARY:スプリング・トゥ・フィットネス
DESCRIPTION:4月12日(日)にアレシア・タナーパークで無料の屋外フィットネスを楽しみ、桜の季節を祝おう!NoMa BIDが主催するこのイベントでは、ミニワークアウトクラス、男女を対象とした地域散策、ウェルネスベンダー、そしてあらゆるレベル向けの楽しいアクティビティが楽しめます。無料のヨガマット(在庫ありあり)などのプレゼントを楽しみ、トップフィットネスブランドの抽選に参加し、地元の食べ物や飲み物でエネルギーを補給しましょう。雨天日:4月19日。定員に限りがあるため、参加には事前登録と免除の確認が必要です。       詳細は以下のサイトをご覧ください: https://nomabid.org/annual-events/spring-into-fitness/ 								\n				\n					\n				\n		\n					\n				\n				\n																														\n				\n					\n				\n		\n					\n		\n		\n		\n		\n		\n		\n				\n				\n							\n			\n						\n		\n						\n				\n				\n				\n		\n				\n				\n					モビリティアクセス				\n				\n				\n				\n									このイベントは車椅子でアクセスできます。 								\n				\n				\n				\n				\n		\n		\n		\n		\n				\n				\n							\n			\n						\n		\n						\n				\n				\n				\n		\n				\n				\n					介助動物				\n				\n				\n				\n									介助動物の同伴は常時可能です。 								\n				\n				\n				\n				\n				\n				\n					\n				\n		\n					\n				\n				\n					追加の宿泊施設				\n				\n				\n				\n									このイベントはNoMa BIDによって主催されています。 アクセシビリティに関する追加情報については、レミ・ウォレス(rwallace@nomabid.org)までお問い合わせください。   詳細については、メールでお問い合わせください info@nomabid.org
URL:https://nationalcherryblossomfestival.org/ja/event/%e3%82%b9%e3%83%97%e3%83%aa%e3%83%b3%e3%82%b0%e3%83%bb%e3%83%88%e3%82%a5%e3%83%bb%e3%83%95%e3%82%a3%e3%83%83%e3%83%88%e3%83%8d%e3%82%b9/
LOCATION:アレシア・タナー・パーク\, 227 ハリー・トーマス・ウェイ NE\, ワシントン\, 直流\, 20002\, United States
CATEGORIES:屋外アクティビティ
ATTACH;FMTTYPE=image/jpeg:https://nationalcherryblossomfestival.org/wp-content/uploads/2026/03/Spring-into-fitness-Featured_Image.jpg
GEO:38.9104468;-77.0021514
X-APPLE-STRUCTURED-LOCATION;VALUE=URI;X-ADDRESS=アレシア・タナー・パーク 227 ハリー・トーマス・ウェイ NE ワシントン 直流 20002 United States;X-APPLE-RADIUS=500;X-TITLE=227 ハリー・トーマス・ウェイ NE:geo:-77.0021514,38.9104468
END:VEVENT
END:VCALENDAR